BEGIN:VCALENDAR
VERSION:2.0
PRODID:-//Café Morgenrot - ECPv6.15.20//NONSGML v1.0//EN
CALSCALE:GREGORIAN
METHOD:PUBLISH
X-ORIGINAL-URL:https://www.cafe-morgenrot.de
X-WR-CALDESC:Veranstaltungen für Café Morgenrot
REFRESH-INTERVAL;VALUE=DURATION:PT1H
X-Robots-Tag:noindex
X-PUBLISHED-TTL:PT1H
BEGIN:VTIMEZONE
TZID:Europe/Berlin
BEGIN:DAYLIGHT
TZOFFSETFROM:+0100
TZOFFSETTO:+0200
TZNAME:CEST
DTSTART:20230326T010000
END:DAYLIGHT
BEGIN:STANDARD
TZOFFSETFROM:+0200
TZOFFSETTO:+0100
TZNAME:CET
DTSTART:20231029T010000
END:STANDARD
BEGIN:DAYLIGHT
TZOFFSETFROM:+0100
TZOFFSETTO:+0200
TZNAME:CEST
DTSTART:20240331T010000
END:DAYLIGHT
BEGIN:STANDARD
TZOFFSETFROM:+0200
TZOFFSETTO:+0100
TZNAME:CET
DTSTART:20241027T010000
END:STANDARD
BEGIN:DAYLIGHT
TZOFFSETFROM:+0100
TZOFFSETTO:+0200
TZNAME:CEST
DTSTART:20250330T010000
END:DAYLIGHT
BEGIN:STANDARD
TZOFFSETFROM:+0200
TZOFFSETTO:+0100
TZNAME:CET
DTSTART:20251026T010000
END:STANDARD
END:VTIMEZONE
BEGIN:VEVENT
DTSTART;TZID=Europe/Berlin:20241202T190000
DTEND;TZID=Europe/Berlin:20241202T230000
DTSTAMP:20260424T103206
CREATED:20241029T114000Z
LAST-MODIFIED:20241127T110907Z
UID:1189-1733166000-1733180400@www.cafe-morgenrot.de
SUMMARY:Feminist Book Club Berlin
DESCRIPTION:Kommt zur Feiertags-Ausgabe unserer beliebten Silent Reading Party und feiere mit uns den Jahresabschluss! \nWie immer ist das Konzept ganz einfach: lesen\, über Bücher und Feminismus plaudern\, gemütlich ein Glas Wein oder eine Tasse Tee trinken – repeat. Schnappt euch einfach ein Buch und kommt vorbei! \nDie Veranstaltung ist kostenlos\, wir freuen uns aber über Spenden\, um weiterhin Veranstaltungen wie diese organisieren zu können. \nFeminist Fiction Berlin ist ein inklusiver\, englischsprachiger Buchclub\, der sich auf feministische Literatur fokussiert und vollständig von Freiwilligen organisiert wird. Wir sind seit Juni 2023 aktiv und wachsen seither stetig. Berliner*innen sind begeistert vom Lesen und davon\, Teil einer bücherliebenden Gemeinschaft zu sein. Neben unseren monatlichen Treffen\, die wir bei unseren Mitgliedern zu Hause abhalten\, organisieren wir gerne Events\, um so viel Literarisches wie möglich aus Berlin herauszuholen. Unseren Instagram-Account findet ihr hier: https://www.instagram.com/feminist.fiction.berlin/ \nFLINTA* only
URL:https://www.cafe-morgenrot.de/event/feminist-book-club-berlin/
LOCATION:Cafe Morgenrot\, Kastanienallee 85\, 10435
ATTACH;FMTTYPE=image/png:https://www.cafe-morgenrot.de/wp-content/uploads/2024/10/A5-Silent-reading-party.png
END:VEVENT
END:VCALENDAR