BEGIN:VCALENDAR
VERSION:2.0
PRODID:-//Café Morgenrot - ECPv6.15.20//NONSGML v1.0//EN
CALSCALE:GREGORIAN
METHOD:PUBLISH
X-ORIGINAL-URL:https://www.cafe-morgenrot.de
X-WR-CALDESC:Veranstaltungen für Café Morgenrot
REFRESH-INTERVAL;VALUE=DURATION:PT1H
X-Robots-Tag:noindex
X-PUBLISHED-TTL:PT1H
BEGIN:VTIMEZONE
TZID:Europe/Berlin
BEGIN:DAYLIGHT
TZOFFSETFROM:+0100
TZOFFSETTO:+0200
TZNAME:CEST
DTSTART:20230326T010000
END:DAYLIGHT
BEGIN:STANDARD
TZOFFSETFROM:+0200
TZOFFSETTO:+0100
TZNAME:CET
DTSTART:20231029T010000
END:STANDARD
BEGIN:DAYLIGHT
TZOFFSETFROM:+0100
TZOFFSETTO:+0200
TZNAME:CEST
DTSTART:20240331T010000
END:DAYLIGHT
BEGIN:STANDARD
TZOFFSETFROM:+0200
TZOFFSETTO:+0100
TZNAME:CET
DTSTART:20241027T010000
END:STANDARD
BEGIN:DAYLIGHT
TZOFFSETFROM:+0100
TZOFFSETTO:+0200
TZNAME:CEST
DTSTART:20250330T010000
END:DAYLIGHT
BEGIN:STANDARD
TZOFFSETFROM:+0200
TZOFFSETTO:+0100
TZNAME:CET
DTSTART:20251026T010000
END:STANDARD
END:VTIMEZONE
BEGIN:VEVENT
DTSTART;TZID=Europe/Berlin:20240414T130000
DTEND;TZID=Europe/Berlin:20240414T200000
DTSTAMP:20260425T000247
CREATED:20240411T105129Z
LAST-MODIFIED:20240411T110252Z
UID:969-1713099600-1713124800@www.cafe-morgenrot.de
SUMMARY:14.04.2024\, RAVE - KUNDGEBUNG | save our tuntenhaus!\, 13 - 20 Uhr
DESCRIPTION:r a v e – k u n d g e b u n g\n\n\nin front of Tuntenhaus and café morgenrot this sunday\n\n\n\n\n\n\n\n»save our tuntenhaus!« \n\nsonntag\, 14.04.2024\n1 pm – 8 pm\non the street kastanienallee 85 und 86\, berlin-prenzlauer berg\n\n\n\nrave together\nsave together\ntuntenhaus bleibt!\n\n\n\n\n\n\n\nwith contributions and demands from\, a. o. \n\n\n\nBöse Tanten\nJil & Plutonia (Tuntenhaus)\nJuwelia (Königin aus Neukölln)\nStrawberry Kaeyk\nOozing Gloop\nRosetta Stone (Rosa Bonheur Berlin)\nCheerleading Performance\nRattenchor\nesels alptraum\nLove Lazers Activists\nHausprojekte Mitte\nDumbster Kittens (Antiffa Vänsterfitta + Megalitos)\nMikey Woodbridge w/ Lucio Vidal\nDiwa\nSamo Rane\nBoris (Ostgut Ton)\nClub Commission / Schwuz
URL:https://www.cafe-morgenrot.de/event/14-04-2024-rave-kundgebung-save-our-tuntenhaus-13-20-uhr/
END:VEVENT
BEGIN:VEVENT
DTSTART;TZID=Europe/Berlin:20240415T190000
DTEND;TZID=Europe/Berlin:20240415T213000
DTSTAMP:20260425T000247
CREATED:20240329T151000Z
LAST-MODIFIED:20240404T163545Z
UID:958-1713207600-1713216600@www.cafe-morgenrot.de
SUMMARY:15.04.2024 | Vortrag und Diskussionsveranstaltung: Vom Tuntenhaus zur Trashimmobilie: Willkommen im Vorkaufsrechtsdschungel\, 19 Uhr
DESCRIPTION:Vom Tuntenhaus zur Trashimmobilie: Willkommen im Vorkaufsrechtsdschungel \nÜber den Verkauf der Städte und den Erhalt sozialer queerer Räume \n  \nVortrag und Diskussionsveranstaltung \nMit: Jil Brest (Tuntenhaus)\, Dr. Andrej Holm (Stadtsoziologe) und Dr. Birgit Ziener (Regionalberatung des Mietshäuser Syndikats)\n\nModeration: Bodo Niendel & Fabian Kunow\n\nKosten: 2\,00 Euro\n \nEs ist still geworden um ein kommunales politisches Instrument\, das den Profitinteressen am Immobilienmarkt für einen kurzen Zeitraum etwas entgegensetzen konnte und den Mieter*innen in ihren Mietwohnungen Bestandsschutz bieten konnte. Das kommunale Vorkaufsrecht ist seit dem Urteil des Bundesverwaltungsgerichts vom 9.11.2021 nicht mehr von Kommunen anwendbar\, wenn es um den Erhalt einer sozialen Milieu- und Mieter*innenstruktur in einem Erhaltungsgebiet geht. \nParallel zum Abbau der politischen Eingriffsmöglichkeiten steigen die Profite am Immobilienmarkt in den deutschen Großstädten in den letzten Jahren weiter an. Ohne jede Anbindung an eine durch die Mieten erwirtschafteten Grundlagen pfeifen Spekulationspreise für Mietshäuser durch die Decke. In der Regel bleiben die Mieter*innen bei dem Verkauf ihres Wohnungen\, der ihren Lebensraum darstellt\, auf der Strecke. Mietraum wird\, wo es möglich ist\, in Wohneigentum umgewandelt. Noch gibt es eine Verschärfung am Berliner Immobilienmarkt in Milieuschutzgebieten\, die die Umwandlung in Wohneigentum erschwert\, es ist eine der letzten Regelungen von Staatsseite aus\, die versucht\, sozialen oder wenigstens angestammten Wohnraum zu erhalten. \nSozial ist Berlin schon lange nicht mehr am Wohnraummarkt und wir müssen um alle noch verbleibenden sozialen Orte streiten. Jetzt trifft es mit dem Verkauf des Tuntenhauses einen der wichtigen noch erhaltenen politischen\, queeren subkulturellen Orte in Prenzlauer Berg. \nWir wollen an dem Abend über die Geschichte und den aktuellen Stand und die Schwierigkeiten der Anwendungen des kommunalen Vorkaufsrecht sprechen\, über Stadtpolitik ganz allgemein uns verständigen\, unsere Sorgen um den Erhalt und den Kampf um soziale Orte teilen und für queere Orte gemeinsam kämpfen.
URL:https://www.cafe-morgenrot.de/event/15-05-2024-vortrag-und-diskussionsveranstaltung-vom-tuntenhaus-zur-trashimmobilie-willkommen-im-vorkaufsrechtsdschungel-19-uhr/
LOCATION:Cafe Morgenrot\, Kastanienallee 85\, 10435
END:VEVENT
END:VCALENDAR