BEGIN:VCALENDAR
VERSION:2.0
PRODID:-//Café Morgenrot - ECPv6.15.20//NONSGML v1.0//EN
CALSCALE:GREGORIAN
METHOD:PUBLISH
X-ORIGINAL-URL:https://www.cafe-morgenrot.de
X-WR-CALDESC:Veranstaltungen für Café Morgenrot
REFRESH-INTERVAL;VALUE=DURATION:PT1H
X-Robots-Tag:noindex
X-PUBLISHED-TTL:PT1H
BEGIN:VTIMEZONE
TZID:Europe/Berlin
BEGIN:DAYLIGHT
TZOFFSETFROM:+0100
TZOFFSETTO:+0200
TZNAME:CEST
DTSTART:20230326T010000
END:DAYLIGHT
BEGIN:STANDARD
TZOFFSETFROM:+0200
TZOFFSETTO:+0100
TZNAME:CET
DTSTART:20231029T010000
END:STANDARD
BEGIN:DAYLIGHT
TZOFFSETFROM:+0100
TZOFFSETTO:+0200
TZNAME:CEST
DTSTART:20240331T010000
END:DAYLIGHT
BEGIN:STANDARD
TZOFFSETFROM:+0200
TZOFFSETTO:+0100
TZNAME:CET
DTSTART:20241027T010000
END:STANDARD
BEGIN:DAYLIGHT
TZOFFSETFROM:+0100
TZOFFSETTO:+0200
TZNAME:CEST
DTSTART:20250330T010000
END:DAYLIGHT
BEGIN:STANDARD
TZOFFSETFROM:+0200
TZOFFSETTO:+0100
TZNAME:CET
DTSTART:20251026T010000
END:STANDARD
END:VTIMEZONE
BEGIN:VEVENT
DTSTART;TZID=Europe/Berlin:20240122T190000
DTEND;TZID=Europe/Berlin:20240122T213000
DTSTAMP:20260425T051233
CREATED:20240131T143330Z
LAST-MODIFIED:20240131T143330Z
UID:888-1705950000-1705959000@www.cafe-morgenrot.de
SUMMARY:Vortrag und Diskussionsveranstaltung | Griechenland als "Schutzschild Europa". Der Rechtsruck in der griechischen Migrationspolitik in europäischen Kontext.
DESCRIPTION:Vortrag und Diskussionsveranstaltung mit L. Włostowski
URL:https://www.cafe-morgenrot.de/event/vortrag-und-diskussionsveranstaltung-griechenland-als-schutzschild-europa-der-rechtsruck-in-der-griechischen-migrationspolitik-in-europaeischen-kontext/
LOCATION:Cafe Morgenrot\, Kastanienallee 85\, 10435
END:VEVENT
END:VCALENDAR