BEGIN:VCALENDAR
VERSION:2.0
PRODID:-//Café Morgenrot - ECPv6.15.20//NONSGML v1.0//EN
CALSCALE:GREGORIAN
METHOD:PUBLISH
X-WR-CALNAME:Café Morgenrot
X-ORIGINAL-URL:https://www.cafe-morgenrot.de
X-WR-CALDESC:Veranstaltungen für Café Morgenrot
REFRESH-INTERVAL;VALUE=DURATION:PT1H
X-Robots-Tag:noindex
X-PUBLISHED-TTL:PT1H
BEGIN:VTIMEZONE
TZID:Europe/Berlin
BEGIN:DAYLIGHT
TZOFFSETFROM:+0100
TZOFFSETTO:+0200
TZNAME:CEST
DTSTART:20230326T010000
END:DAYLIGHT
BEGIN:STANDARD
TZOFFSETFROM:+0200
TZOFFSETTO:+0100
TZNAME:CET
DTSTART:20231029T010000
END:STANDARD
BEGIN:DAYLIGHT
TZOFFSETFROM:+0100
TZOFFSETTO:+0200
TZNAME:CEST
DTSTART:20240331T010000
END:DAYLIGHT
BEGIN:STANDARD
TZOFFSETFROM:+0200
TZOFFSETTO:+0100
TZNAME:CET
DTSTART:20241027T010000
END:STANDARD
BEGIN:DAYLIGHT
TZOFFSETFROM:+0100
TZOFFSETTO:+0200
TZNAME:CEST
DTSTART:20250330T010000
END:DAYLIGHT
BEGIN:STANDARD
TZOFFSETFROM:+0200
TZOFFSETTO:+0100
TZNAME:CET
DTSTART:20251026T010000
END:STANDARD
END:VTIMEZONE
BEGIN:VEVENT
DTSTART;TZID=Europe/Berlin:20240520T200000
DTEND;TZID=Europe/Berlin:20240520T220000
DTSTAMP:20260424T235643
CREATED:20240513T180021Z
LAST-MODIFIED:20240513T180021Z
UID:997-1716235200-1716242400@www.cafe-morgenrot.de
SUMMARY:20.05.2024 | Film: BLEISTIFT MESSER STAFFELSTAB / PENCIL KNIFE BATON von ATOPIA COLLECTIVE\, 20 Uhr
DESCRIPTION:Filmvorführung: BLEISTIFT MESSER STAFFELSTAB / PENCIL KNIFE BATON\nEine unabhängige Produktion mit 15 internationalen Preisenvon ATOPIA COLLECTIVE \n\n\n\n20 Mai 2024\, 20.00 Uhr @ Cafe Morgenrot.\n  \n\n‚Genug mit den Ameisen. Die Ära der Bienen kommt‘.Eine schwarze Quantenkomödie über die Utopie der universellen Erzählung und den Realismus der Gemeinsamkeit\, der kollektiven Zusammenarbeit und der Solidarität.Vier Mitbewohner*innen in Berlin\, Max\, Nicola\, Mariam und Eva suchen nach Wahrheit\, Sinn und sich selbst.In einem parallelen Universum kämpft eine Gruppe von verfallenden Götter in Rente\, nämlich Artemis\, Demetra\, Dionysos\, Apollon und Hephaestus\, gegenüber stereotypes\, Ungerechtigkeit und vergessen.Der Bleistift und das Messer. Kreativität und Überleben. Zwei Sprachen\, zwei Welten\, zwei oberflächlich gesehen unterschiedliche Situationen\, aber im Grunde verbunden wie die beiden Enden eines Staffelstabes.Zwischen schwarzem Humor und bittersüßem Realismus komponiert BLEISTIFT MESSER STAFFELSTAB ein tragikomisches philosophisches Puzzle über Freundschaft und Zusammenarbeit.Können die Menschen mit ihren verletzten Idealen zusammengehen?Kann die Suche nach persönlicher Wahrheit mit Gerechtigkeit mitgehen?Ein Film\, der das Gefühl einer leichten punk Freiheit ausstrahlt\, und versucht die Andersartigkeiten zu überbrücken\, mit dem Ziel den Staffelstab an den Zuschauer weiterzugeben.„Wenn wir die Welt nicht ändern können\, dann zerstören wir sie!“Kaboom!!!\n  \n\nREGIE / DREHBUCH Konstantinos KakogiannisFOTOGRAFIE Pavlos MavrikidisEDIT Giorgos AlefantisART DIRECTOR Pavlos KapalasKOSTÜME: La ReinaMIT: Maria Katsandri\, Sebastian Becker\, Georgia Zoi\, Panagos Ioakim\, Marie Celine Yildimir\, Ntinos Pontikopoulos\, Anja Bothe\, Konstantinos Gerakis\, Konstantinos Papatheodorou\,Vali Mavridi. Guest Stars: Valeria Christodoulidou\, Haris AsimakopoulosGRIECHENLAND/ DEUTSCHLANDFARBE/ SCHWARZWEISSDauer: 95’
URL:https://www.cafe-morgenrot.de/event/20-05-2024-film-bleistift-messer-staffelstab-pencil-knife-baton-von-atopia-collective-20-uhr/
LOCATION:Cafe Morgenrot\, Kastanienallee 85\, 10435
END:VEVENT
END:VCALENDAR